BEGIN:VCALENDAR
VERSION:2.0
PRODID:-//Melibokus Rundblick - ECPv4.8.1//NONSGML v1.0//EN
CALSCALE:GREGORIAN
METHOD:PUBLISH
X-WR-CALNAME:Melibokus Rundblick
X-ORIGINAL-URL:https://www.melibokus-rundblick.de
X-WR-CALDESC:Veranstaltungen für Melibokus Rundblick
BEGIN:VEVENT
DTSTART;TZID=UTC+2:20121207T190000
DTEND;TZID=UTC+2:20121207T190000
DTSTAMP:20260425T114551
CREATED:20121202T184332Z
LAST-MODIFIED:20121210T135309Z
UID:1958-1354906800-1354906800@www.melibokus-rundblick.de
SUMMARY:Just Green-Party beim KSV Seeheim
DESCRIPTION:Jeder Zuschauer der mit einem grünen Kleidungsstück erscheint erhält ein Freigetränk. \n19.00 Uhr Seeheim II – Aschaffenburg-Damm\n20.30 Uhr Seeheim I – Niedernberg \nMehr Infos beim KSV Seeheim. \n
URL:https://www.melibokus-rundblick.de/event/just-green-part/
LOCATION:Sport- und Kulturhalle Seeheim\, Schulstraße 18\, Seeheim\, 64342
CATEGORIES:Vereinsveranstaltungen
END:VEVENT
END:VCALENDAR