BEGIN:VCALENDAR
VERSION:2.0
PRODID:-//Melibokus Rundblick - ECPv4.8.1//NONSGML v1.0//EN
CALSCALE:GREGORIAN
METHOD:PUBLISH
X-WR-CALNAME:Melibokus Rundblick
X-ORIGINAL-URL:https://www.melibokus-rundblick.de
X-WR-CALDESC:Veranstaltungen für Melibokus Rundblick
BEGIN:VEVENT
DTSTART;TZID=UTC+2:20130223T133000
DTEND;TZID=UTC+2:20130223T160000
DTSTAMP:20260425T110844
CREATED:20130122T162029Z
LAST-MODIFIED:20130122T162029Z
UID:3195-1361626200-1361635200@www.melibokus-rundblick.de
SUMMARY:Kinderflohmarkt in Seeheim
DESCRIPTION:Großer Flohmarkt für Kindersachen und Spielzeug \nWann: Samstag\, 23. Februar 2013\, 13.30 bis 16 Uhr\nWo: Sport- und Kulturhalle Seeheim \nInfo/Anmeldung: Tel. 06257-6490043 oder per E-Mail donitza@web.de\nDie Standgebühr beträgt 5 € plus einen selbstgebackenen Kuchen (keine Sahnetorte). \n
URL:https://www.melibokus-rundblick.de/event/kinderflohmarkt-in-seeheim/
LOCATION:Sport- und Kulturhalle Seeheim\, Schulstraße 18\, Seeheim\, 64342
CATEGORIES:Flohmarkt/Basar
END:VEVENT
END:VCALENDAR