BEGIN:VCALENDAR
VERSION:2.0
PRODID:-//Melibokus Rundblick - ECPv4.8.1//NONSGML v1.0//EN
CALSCALE:GREGORIAN
METHOD:PUBLISH
X-WR-CALNAME:Melibokus Rundblick
X-ORIGINAL-URL:https://www.melibokus-rundblick.de
X-WR-CALDESC:Veranstaltungen für Melibokus Rundblick
BEGIN:VEVENT
DTSTART;TZID=UTC+2:20121206T193000
DTEND;TZID=UTC+2:20121206T193000
DTSTAMP:20260425T115628
CREATED:20121106T101618Z
LAST-MODIFIED:20121113T101300Z
UID:993-1354822200-1354822200@www.melibokus-rundblick.de
SUMMARY:CBM Weihnachtskonzert im Parktheater Bensheim
DESCRIPTION:Weihnachtskonzert am 6.12. der Christoffel-Blindenmission mit Clemens Bittlinger  \nBENSHEIM (meli)\, „Kostbare Momente“ verspricht die Christoffel-Blindenmission (CBM) am 6. Dezember im Bensheimer Parktheater. Unter diesem Motto begrüßt Clemens Bittlinger zusammen mit Bettina Alms und David Plüss die Gäste zum diesjährigen CBM-Weihnachtskonzert. Ab 19.30 Uhr garantiert der Liedermacher und langjährige Botschafter der Entwicklungshilfeorganisation die perfekte Einstimmung in die Advents- und Weihnachtszeit. \nWarme Klänge und Texte mit Tiefgang\nWenn Bettina Alms auf ihrer Blockflöte zu spielen beginnt\, verändert sich der Raum. Gebannt\, erstaunt und freudig überrascht lauscht das Publikum den wunderbaren Klängen\, die Alms diesem Instrument zu entlocken vermag. Tiefe warme Klänge im Zweiklang mit weichen und hellen Tönen – das Ganze eingebettet in die herrlichen Klangbilder des renommierten Schweizer Pianisten David Plüss. Für die Texte mit Tiefgang und Melodien\, die über das Ohr direkt ins Herz gehen\, sorgt Clemens Bittlinger.\nBereits zum fünften Mal in Folge richtet die CBM das Weihnachtskonzert in Bensheim aus. „Auf diese Weise wollen wir unseren Kontakt zu den Bensheimern vertiefen und uns für die großartige Unterstützung aus Bensheim und der Region bedanken“\, so CBM-Direktor Dr. Rainer Brockhaus.\nUnterstützung von Bensheim in die ganze Welt\nDie Christoffel-Blindenmission mit Hauptsitz in Bensheim ist eine der größten und ältesten Organisationen der Entwicklungszusammenarbeit in Deutschland. Die CBM gibt es seit über 100 Jahren\, sie unterstützt derzeit 749 Projekte in 81 Ländern weltweit. Ihr Hauptziel ist es\, die Lebensqualität der ärmsten Menschen dieser Welt zu verbessern\, die behindert sind oder in der Gefahr stehen\, behindert zu werden. Mehr Informationen unter www.cbm.de.\nKarten gibt es für 10 Euro im Vorverkauf:\nBei der Christoffel-Blindenmission unter Telefon (0 62 51) 1 31-2 92\nBei der Musikbox\, Hauptstr. 56\, Bensheim oder unter Telefon (0 62 51) 6 25 51\nBei der Tourist Information\, Hauptstr. 39\, Bensheim\, Telefon (0 62 51) 5 82 63 14  \n
URL:https://www.melibokus-rundblick.de/event/kostbare-momente-im-parktheater-bensheim/
LOCATION:Parktheater\, Promenadenstraße 25\, Bensheim\, Hessen\, 64625\, Deutschland
CATEGORIES:Konzerte
END:VEVENT
END:VCALENDAR