BEGIN:VCALENDAR
VERSION:2.0
PRODID:-//Melibokus Rundblick - ECPv4.8.1//NONSGML v1.0//EN
CALSCALE:GREGORIAN
METHOD:PUBLISH
X-WR-CALNAME:Melibokus Rundblick
X-ORIGINAL-URL:https://www.melibokus-rundblick.de
X-WR-CALDESC:Veranstaltungen für Melibokus Rundblick
BEGIN:VEVENT
DTSTART;TZID=UTC+2:20180524T140000
DTEND;TZID=UTC+2:20180524T180000
DTSTAMP:20260425T143930
CREATED:20180524T193604Z
LAST-MODIFIED:20180524T193604Z
UID:31953-1527170400-1527184800@www.melibokus-rundblick.de
SUMMARY:"Magische Orte"
DESCRIPTION:„Magische Orte“ ist der Titel der aktuellen Ausstellung in der Gemeindebücherei im historischen Rathaus von Seeheim. Die freie Malgruppe „Armidas Malwerkstatt“\, die sich in der Werkstatt Sonne zum Malen trifft\, zeigt in der Treppenhausgalerie ihre ganz persönlichen magischen Orte in Aquarell- und Pastelltechnik. Die Ausstellung ist mittwochs von 9 bis 11 und 16 bis 19 Uhr sowie donnerstags von 14 bis 18 Uhr zu den Öffnungszeiten der Bücherei bis zum 19. Juli zu sehen.\nAdresse: Gemeindebücherei Seeheim\, Ober-Beerbacher-Str. 1\, Seeheim \n
URL:https://www.melibokus-rundblick.de/event/magische-orte/
CATEGORIES:Kunstaustellungen
END:VEVENT
END:VCALENDAR