BEGIN:VCALENDAR
VERSION:2.0
PRODID:-//Melibokus Rundblick - ECPv4.8.1//NONSGML v1.0//EN
CALSCALE:GREGORIAN
METHOD:PUBLISH
X-WR-CALNAME:Melibokus Rundblick
X-ORIGINAL-URL:https://www.melibokus-rundblick.de
X-WR-CALDESC:Veranstaltungen für Melibokus Rundblick
BEGIN:VEVENT
DTSTART;TZID=UTC+2:20121130T160000
DTEND;TZID=UTC+2:20121130T180000
DTSTAMP:20260425T155423
CREATED:20121003T142914Z
LAST-MODIFIED:20121022T071159Z
UID:250-1354291200-1354298400@www.melibokus-rundblick.de
SUMMARY:Markttag des Förderverein Melibokusschule
DESCRIPTION:Am 30.11.2012 lädt der Förderverein Melibokusschule zum Markttag in die Melibokusschule Alsbach. \n
URL:https://www.melibokus-rundblick.de/event/markttag-des-foerderverein-melibokusschule-alsbach/
LOCATION:Melibokusschule Alsbach\, Bahnhofstrasse 43\, Alsbach\, Hessen\, 64665\, Deutschland
CATEGORIES:Vereinsveranstaltungen
END:VEVENT
END:VCALENDAR