BEGIN:VCALENDAR
VERSION:2.0
PRODID:-//Melibokus Rundblick - ECPv4.8.1//NONSGML v1.0//EN
CALSCALE:GREGORIAN
METHOD:PUBLISH
X-WR-CALNAME:Melibokus Rundblick
X-ORIGINAL-URL:https://www.melibokus-rundblick.de
X-WR-CALDESC:Veranstaltungen für Melibokus Rundblick
BEGIN:VEVENT
DTSTART;TZID=UTC+2:20130203T180000
DTEND;TZID=UTC+2:20130203T180000
DTSTAMP:20260425T142450
CREATED:20130107T195503Z
LAST-MODIFIED:20130107T195503Z
UID:2694-1359914400-1359914400@www.melibokus-rundblick.de
SUMMARY:Oboe und Orgel im Lampertheimer Dom
DESCRIPTION:LAMPERTHEIM\, Januar 2013 (meli)\, Zu einem besonderen Konzert lädt die Lukasgemeinde zusammen mit cultur communal der Stadt Lampertheim am Sonntag\, den 3. Februar ein: in der Lampertheimer Domkirche musizieren der Oboist Olaf Gramlich und Kantorin Heike Ittmann an der Orgel ein mitreißendes und spannendes Programm. Die wunderbare Kombination von Oboe und Orgel lässt einen wahren musikalischen Hochgenuss erwarten. \nDie beiden Musiker haben ein Programm mit Werken von Johann Sebastian Bach\, Alexandre Guilmant\, Naji Hakim und anderen zusammengestellt\, das die ganze Bandbreite der beiden Instrumente zeigt – mal strahlend barock\, mal weich romantisch\, mal modern.  \nDas Konzert beginnt um 18 Uhr. Karten sind an der Abendkasse zu 5\,- / erm. 3\,- € erhältlich.\nWeitere Informationen unter heikeittmann@gmail.com oder unter Tel.: 06206/157301. \n
URL:https://www.melibokus-rundblick.de/event/oboe-und-orgel-im-lampertheimer-dom/
LOCATION:Domkirche Lampertheim\, Domgasse\, Lampertheim\, 68623
CATEGORIES:Konzerte
END:VEVENT
END:VCALENDAR