BEGIN:VCALENDAR
VERSION:2.0
PRODID:-//Melibokus Rundblick - ECPv4.8.1//NONSGML v1.0//EN
CALSCALE:GREGORIAN
METHOD:PUBLISH
X-WR-CALNAME:Melibokus Rundblick
X-ORIGINAL-URL:https://www.melibokus-rundblick.de
X-WR-CALDESC:Veranstaltungen für Melibokus Rundblick
BEGIN:VEVENT
DTSTART;TZID=UTC+2:20121207T200000
DTEND;TZID=UTC+2:20121207T200000
DTSTAMP:20260425T115013
CREATED:20121005T170839Z
LAST-MODIFIED:20121022T070928Z
UID:291-1354910400-1354910400@www.melibokus-rundblick.de
SUMMARY:Vince Ebert - Freiheit ist alles (Bensheim)
DESCRIPTION:Kabarett-Fans kommen am 07.12.2012 um 20:00 Uhr bei Vince Ebert – Freiheit ist alles wieder voll auf ihre Kosten. \nMehr Informationen unter:\nhttp://www.bensheim.de/web/index.cfm?pm=merkzetteluebersicht&idmenu=23&idobjekt=4190 \n
URL:https://www.melibokus-rundblick.de/event/vince-ebert-freiheit-ist-alles-bensheim/
LOCATION:Parktheater\, Promenadenstraße 25\, Bensheim\, Hessen\, 64625\, Deutschland
CATEGORIES:Comedy,Kabarett,Show
END:VEVENT
END:VCALENDAR