BEGIN:VCALENDAR
VERSION:2.0
PRODID:-//Melibokus Rundblick - ECPv4.8.1//NONSGML v1.0//EN
CALSCALE:GREGORIAN
METHOD:PUBLISH
X-WR-CALNAME:Melibokus Rundblick
X-ORIGINAL-URL:https://www.melibokus-rundblick.de
X-WR-CALDESC:Veranstaltungen für Melibokus Rundblick
BEGIN:VEVENT
DTSTART;TZID=UTC+2:20121201T140000
DTEND;TZID=UTC+2:20121201T210000
DTSTAMP:20260425T125820
CREATED:20121123T095622Z
LAST-MODIFIED:20131122T202351Z
UID:1702-1354370400-1354395600@www.melibokus-rundblick.de
SUMMARY:Weihnachtsmarkt in Lorsch
DESCRIPTION:Dieses Jahr findet der Lorscher Weihnachtsmarkt am 1. und 2. Dezember\, jeweils ab 14 Uhr statt. Der Markt wird rund um den Benediktinerplatz stattfinden. \n14:00 Uhr Der Weihnachtsmarkt öffnet seine Pforten\n15:00 Uhr Traditionell: Die Edelweiß-Revival-Band\n16:30 Uhr Stimmungsvoll: Der Gesangsverein\nLiederkranz\n18:00 Uhr Festlich: Der Musikzug Laurissa\n19:00 Uhr Spannend: Startschuss der Weihnachtskugelverlosung\ndes Lorscher\nEinzelhandels\n19:30 Uhr Herz-lich: MOSAIQUE \n
URL:https://www.melibokus-rundblick.de/event/weihnachtsmarkt-in-lorsch/
LOCATION:Benediktinerplatz Lorsch\, Benediktinerplatz\, Lorsch
CATEGORIES:Weihnachtsmarkt
END:VEVENT
END:VCALENDAR