BEGIN:VCALENDAR
VERSION:2.0
PRODID:-//Melibokus Rundblick - ECPv4.8.1//NONSGML v1.0//EN
CALSCALE:GREGORIAN
METHOD:PUBLISH
X-WR-CALNAME:Melibokus Rundblick
X-ORIGINAL-URL:https://www.melibokus-rundblick.de
X-WR-CALDESC:Veranstaltungen für Melibokus Rundblick
BEGIN:VEVENT
DTSTART;TZID=UTC+2:20121201T160000
DTEND;TZID=UTC+2:20121201T160000
DTSTAMP:20260425T161223
CREATED:20121127T113953Z
LAST-MODIFIED:20121127T114846Z
UID:1770-1354377600-1354377600@www.melibokus-rundblick.de
SUMMARY:Weihnachtsmarkt in Ober-Beerbach
DESCRIPTION:Am 1. Adventswochenende findet in Ober-Beerbach der 6. Ober-Beerbacher Weihnachtsmarkt statt. \nDer Weihnachtsmarkt beginnt am Samstag um 16 Uhr. Am Sonntag ist der Weihnachtsmarkt ab 12 Uhr geöffnet. Am Sonntag um 18 Uhr ist der Nikolaus da. \nHier geht´s zum Artikel. \n
URL:https://www.melibokus-rundblick.de/event/weihnachtsmarkt-in-ober-beerbach/
LOCATION:Ober-Beerbacher Hofreite\, Im Klingen 2\, Ober-Beerbach
CATEGORIES:Weihnachtsmarkt
END:VEVENT
END:VCALENDAR